BEGIN:VCALENDAR
PRODID:-//hacksw/handcal//NONSGML v1.0//EN
VERSION:2.0
METHOD:PUBLISH
BEGIN:VEVENT
DTSTART:20260311T160000Z
DTEND:20260311T173000Z
LOCATION:Spring Arbor University
UID:2855620260311T160000ZEducation Planning: Your Client's Second Biggest Goal
DTSTAMP:20260421T151703Z
DESCRIPTION:\nProgram: Education Planning: You Client's Second Biggest Goal \nDescription: Tactics and strategies for college planning, and how to leverage the right resources for your client families \nSpeaker(s): Panel of Speakers with Moderator: \nDylan Thomas, CFP® - Generations Financial Planning (Bio [here](https://genfinplan.com/team_member/dylan-thomas/)) \nKasey Altenbernt, Prudential (Bio [here](https://www.prudential.com/advisor/kasey-altenbernt)) \nHerbert Rotich, Director of Student Financial Services at Spring Arbor University (Profile [here](https://springarbor.edu/faculty/herbert-rotich.php)) \n  \n \nLocation: Spring Arbor University  \n \n  \nAt this [link](https://www.jacksonareaepc.org/assets/Councils/Jackson-MI/library/SAU%20Campus%20Map%20and%20Directions.pdf) is a map of the SAU campus. We will be meeting in the Kresge Student Life Center; building #7 on the map. Attendees are asked to park in the lot behind the Free Methodist Church (#23) off of Cottage Street and walk to the building. The meeting/luncheon will be in the Ralph Carey Forum on the first floor. (same location as in recent years).
SUMMARY:Education Planning: Your Client's Second Biggest Goal - Jackson Area Estate Planning Council 
PRIORITY:3
BEGIN:VALARM
TRIGGER:PT18H
ACTION:DISPLAY
DESCRIPTION:Reminder
END:VALARM
END:VEVENT
END:VCALENDAR