BEGIN:VCALENDAR
PRODID:-//hacksw/handcal//NONSGML v1.0//EN
VERSION:2.0
METHOD:PUBLISH
BEGIN:VEVENT
DTSTART:20251112T170000Z
DTEND:20251112T183000Z
LOCATION:Cascades Manor House, Jackson, Michigan
UID:2855420251112T170000ZAn Introduction to Medicaid. The Basics.
DTSTAMP:20260421T151438Z
DESCRIPTION:\nProgram:\n \nAttorney Timothy Ehlert plans to present on Medicaid in a long-term care setting, i.e. 24-hour skilled nursing facility. Points of discussion will include elements to gaining eligibility such as income, asset limitations, and impaired activities of daily living requiring significant care needs. Further discussion will include the 5-year lookback period, divestment, divestment penalties, and strategies for eligibility.\n \nSpeaker: Timothy Ehlert of Chalgian and Tripp Law Offices PLLC. \n \nSee bio:\n \nhttps://mielderlaw.com/attorneys/timothy-ehlert/\n \n \n \n \n
SUMMARY:An Introduction to Medicaid. The Basics. - Jackson Area Estate Planning Council 
PRIORITY:3
BEGIN:VALARM
TRIGGER:PT18H
ACTION:DISPLAY
DESCRIPTION:Reminder
END:VALARM
END:VEVENT
END:VCALENDAR