BEGIN:VCALENDAR
PRODID:-//hacksw/handcal//NONSGML v1.0//EN
VERSION:2.0
METHOD:PUBLISH
BEGIN:VEVENT
DTSTART:20250910T160000Z
DTEND:20250910T171500Z
LOCATION:Country Club of Jackson
UID:2855320250910T160000ZAnnual Update/Review
DTSTAMP:20260421T151730Z
DESCRIPTION:\nAn annual tradition - Mr. Chalgian will update us on all of the important and relevant statutory changes and judicial opinions from the last year relating to probate, trust, estate planning, and elder law, with detailed analysis, discussion, and takeaways that our members and guests can use to better serve clients. \nThis is a can't miss event with Doug's always entertaining take on the biggest cases of the year. 
SUMMARY:Annual Update/Review - Jackson Area Estate Planning Council 
PRIORITY:3
BEGIN:VALARM
TRIGGER:PT18H
ACTION:DISPLAY
DESCRIPTION:Reminder
END:VALARM
END:VEVENT
END:VCALENDAR