BEGIN:VCALENDAR
PRODID:-//hacksw/handcal//NONSGML v1.0//EN
VERSION:2.0
METHOD:PUBLISH
BEGIN:VEVENT
DTSTART:20250108T170000Z
DTEND:20250108T181500Z
LOCATION:Cascades Manor House, Jackson, Michigan
UID:2674720250108T170000ZUnderstanding Estate Tax Planning and Complex Strategies that are Commonly Used
DTSTAMP:20260421T151703Z
DESCRIPTION:\nSpeaker bio, click [here](https://www.fw-pc.com/attorneys/michael-d-shelton/). \n \nUnderstanding Estate Tax Planning\n And Complex Strategies That Are Commonly Used\n \nThis presentation is intended to help you gain a better understanding of gift and estate taxes, impact of the potential sunsetting of historic exemption limits, and planning strategies that may become more prominent if the Sunset occurs at the end of 2025. Some of the specific topics that will be discussed include:\n Estate Tax and Gift Tax Exemption and the always confusing Generation Skipping Transfer Tax Exemption, how they are used and how they differ. The taxable estate and what is included. Common techniques and concepts used for efficient wealth transfer planning, including: Estate Freeze, Use of valuation discounts, Marital deduction, Qualified terminable interest property deduction, Charitable deduction Crummey Trusts, and Grantor Trust Status and why it matters.  Common structures such as: Credit Shelter and By-pass Trusts, ILITs, GRATs,  Intentionally Defective Grantor Trusts, QPRTs, and Charitable Remainder and Lead Trusts.
SUMMARY:Understanding Estate Tax Planning and Complex Strategies that are Commonly Used - Jackson Area Estate Planning Council 
PRIORITY:3
BEGIN:VALARM
TRIGGER:PT18H
ACTION:DISPLAY
DESCRIPTION:Reminder
END:VALARM
END:VEVENT
END:VCALENDAR