BEGIN:VCALENDAR
PRODID:-//hacksw/handcal//NONSGML v1.0//EN
VERSION:2.0
METHOD:PUBLISH
BEGIN:VEVENT
DTSTART:20240913T160000Z
DTEND:20240913T171500Z
LOCATION:Country Club of Jackson
UID:2674620240913T160000ZYear in Review
DTSTAMP:20260421T151243Z
DESCRIPTION:\nDate/Time: Friday, September 13, 2024 at 12pm\nLocation: Country Club of Jackson \nSpeaker: Doug Chalgian of Chalgian & Tripp Law Offices\nBio: https://mielderlaw.com/douglas-g-chalgian/\nTopic: Annual Update/Review\n\nAn annual tradition - Mr. Chalgian will update us on all of the important and relevant statutory changes and judicial opinions from the last year relating to probate, trust, estate planning, and elder law, with detailed analysis, discussion, and takeaways that our members and guests can use to better serve clients. \n  \nThis is a can't miss event with Doug's always entertaining take on the biggest cases of the year. 
SUMMARY:Year in Review - Jackson Area Estate Planning Council 
PRIORITY:3
BEGIN:VALARM
TRIGGER:PT18H
ACTION:DISPLAY
DESCRIPTION:Reminder
END:VALARM
END:VEVENT
END:VCALENDAR