BEGIN:VCALENDAR
PRODID:-//hacksw/handcal//NONSGML v1.0//EN
VERSION:2.0
METHOD:PUBLISH
BEGIN:VEVENT
DTSTART:20241113T170000Z
DTEND:20241113T183000Z
LOCATION:Cascades Manor House, Jackson, Michigan
UID:2656720241113T170000ZDistribution of Estate Assets: Where Does All the Stuff Go?
DTSTAMP:20260421T151115Z
DESCRIPTION:\nDescription of Presentation:  \nDistribution and appraisal of assets are often a sticking point in selling the home of a decedent. The Betty Brigade has been doing this kind of asset distribution and appraisal for 20 years and will share the steps it takes to manage multi-beneficiary trusts and estates anywhere they occur.  \n  \n \nSharon's Bio:  \nSharon McRill (say Mick Rill) is Founder and president of The Betty Brigade, a relocation, organization and Handyman company based in Ann Arbor, Michigan. Her mission is to help people live more organized and less stressful lives.\n\nLaid off from a corporate marketing job in 2003, McRill turned the setback into an opportunity. As a busy professional herself, she wanted to help other busy people get organized and stay that way. She’s now done so successfully since Spring of 2003, 2023 marks a 20-year anniversary!\n\nMcRill, has expanded her brand’s influence through strategic marketing and sales reaching 900k plus on social media daily. Her highly trained team is composed of handymen, organizing experts, and logistical wizards.\n\nMcRill has done scores of television and radio interviews and has been featured in such media outlets as Dr. Phil, Detroit Free Press, Detroit News, WDIV-Channel 4, WXYZ-Channel 7, Crain's Detroit Business, Forbes.com, and Women's Day. Additionally, she won awards from the ATHENA foundation, Tuck School of Business, Ann Arbor Board of Realtors, and Women Business Owners of Southeast Michigan. Most recently The Betty Brigade won Best of Ann Arbor Award for Professional Organizing 2023.
SUMMARY:Distribution of Estate Assets: Where Does All the Stuff Go? - Jackson Area Estate Planning Council 
PRIORITY:3
BEGIN:VALARM
TRIGGER:PT18H
ACTION:DISPLAY
DESCRIPTION:Reminder
END:VALARM
END:VEVENT
END:VCALENDAR