BEGIN:VCALENDAR
PRODID:-//hacksw/handcal//NONSGML v1.0//EN
VERSION:2.0
METHOD:PUBLISH
BEGIN:VEVENT
DTSTART:20240710T160000Z
DTEND:20240710T171500Z
LOCATION:Steve's Ranch - Jackson, Michigan
UID:2467320240710T160000ZThe all new Uniform Power of Attorney Act
DTSTAMP:20260421T151802Z
DESCRIPTION:\nTopic: The all new Uniform Power of Attorney Act ("UPOAA" or the "Act"). It is here, and effective July 1, 2024. The Act has wide-ranging effects, not just to drafting lawyers. All of our members - financial advisors, insurance professionals, bankers, trust officers, and more - will need to learn about the new Act and how it may affect their business and clients. That's right, it is an all-new statute - the prior POA law was completely repealed, and this is a stand-alone statute outside of EPIC.  \n  \nSpeaker: Christine M. Savage - Attorney at Lowe Law Firm, PC (bio - [click here](https://lowelaw.net/christine-savage)). Chris was the chair of the UPOAA subcommittee of the State Bar's Probate Council, so who better to hear about it than the person leading the charge. \n \n \n \n \n
SUMMARY:The all new Uniform Power of Attorney Act - Jackson Area Estate Planning Council 
PRIORITY:3
BEGIN:VALARM
TRIGGER:PT18H
ACTION:DISPLAY
DESCRIPTION:Reminder
END:VALARM
END:VEVENT
END:VCALENDAR