BEGIN:VCALENDAR
PRODID:-//hacksw/handcal//NONSGML v1.0//EN
VERSION:2.0
METHOD:PUBLISH
BEGIN:VEVENT
DTSTART:20240501T153000Z
DTEND:20240501T170000Z
LOCATION:Cascades Manor House, Jackson, Michigan
UID:2467220240501T153000ZSuccession Planning for Small Business
DTSTAMP:20260421T150936Z
DESCRIPTION:\nDear Jackson Area Estate Planning Council ("JAEPC") Members and Friends: \n  \nPlease note: The May 1 luncheon is a collaboration with the Jackson County Chamber of Commerce. The Chamber is officially hosting the event, so registration will be different from normal JAEPC luncheons. Please do not respond to this email to reserve/register.  \n  \nPlease see the registration information below. \n  \nUpcoming Meeting:   \nDate/Time: Wednesday, May 1, 2024 with lunch at 11:30am and the program at 12pm \nProgram Title: Succession Planning for Small Business \nJoin us for a Chamber luncheon to learn about Succession Planning for Small Business. We'll cover what you should know about succession planning with families, key employees, and/or selling the business.\nSpeakers include: Steve Makulski, Esq. - Anderson & Makulski, PC; Jason Sanders – First Midwest Advisors; Tony Baker – County National Bank \nLocation: Cascades Manor House, Jackson, MI \n  \nTo Register: \nLink for reservation through the Chamber is [here](http://business.jacksonchamber.org/events/details/succession-planning-for-small-business-7886).  \nIf you are a paid JAEPC member, contact JAEPC Secretary Brad Brelinski for the promo code and the JAEPC will pay for your luncheon. \n \nIf you are not a paid JAEPC member, you can sign up without the code and pay the cost to attend directly to the Chamber. \nIf you don't know if you are a current, paid JAEPC member, contact our Treasurer, Steve Patch, at spatch@lallycpa.com.
SUMMARY:Succession Planning for Small Business - Jackson Area Estate Planning Council 
PRIORITY:3
BEGIN:VALARM
TRIGGER:PT18H
ACTION:DISPLAY
DESCRIPTION:Reminder
END:VALARM
END:VEVENT
END:VCALENDAR