BEGIN:VCALENDAR
PRODID:-//hacksw/handcal//NONSGML v1.0//EN
VERSION:2.0
METHOD:PUBLISH
BEGIN:VEVENT
DTSTART:20240313T160000Z
DTEND:20240313T171500Z
LOCATION:Spring Arbor University
UID:2467120240313T160000ZEconomic and Market Update and Outlook
DTSTAMP:20260421T151224Z
DESCRIPTION:\nCharles L. Ballard\n Professor of Economics Emeritus\n Michigan State University\n \nBiography [here](https://econ.msu.edu/about/directory/Ballard-Charles-Emeriti). \n
SUMMARY:Economic and Market Update and Outlook - Jackson Area Estate Planning Council 
PRIORITY:3
BEGIN:VALARM
TRIGGER:PT18H
ACTION:DISPLAY
DESCRIPTION:Reminder
END:VALARM
END:VEVENT
END:VCALENDAR