BEGIN:VCALENDAR
PRODID:-//hacksw/handcal//NONSGML v1.0//EN
VERSION:2.0
METHOD:PUBLISH
BEGIN:VEVENT
DTSTART:20231108T170000Z
DTEND:20231108T181500Z
LOCATION:Veritas
UID:2466920231108T170000ZFirearms Planning, Regulations, and Estate Administration (Working Title)
DTSTAMP:20260421T151249Z
DESCRIPTION:\nKelly L. O’Connor is the founding partner of O’Connor & Bennett Law Firm, PLC, based in\n Marshall. Her practice focuses on estate planning and administration, probate litigation, and real\n property law. Ms. O’Connor is a member of the State Bar of Michigan, the Calhoun County\n Estate Planner’s Council, the Calhoun County Bar Association, Wealth Counsel, is a graduate of\n The Thomas M. Cooley Law School.\n \nMs. O’Connor is a licensed Michigan Real Estate Broker and has held a Michigan Real Estate\n Salesperson license since 1996. She is also the co-owner of Two Alpha Auctions, LLC, a firearm\n and sportsman auction company.\n
SUMMARY:Firearms Planning, Regulations, and Estate Administration (Working Title) - Jackson Area Estate Planning Council 
PRIORITY:3
BEGIN:VALARM
TRIGGER:PT18H
ACTION:DISPLAY
DESCRIPTION:Reminder
END:VALARM
END:VEVENT
END:VCALENDAR