BEGIN:VCALENDAR
PRODID:-//hacksw/handcal//NONSGML v1.0//EN
VERSION:2.0
METHOD:PUBLISH
BEGIN:VEVENT
DTSTART:20230915T160000Z
DTEND:20230915T171500Z
LOCATION:Country Club of Jackson
UID:2458920230915T160000ZAnnual Update with Doug Chalgian
DTSTAMP:20260421T151638Z
DESCRIPTION:\nLunch with golf to follow. \n \nSpeaker: Doug Chalgian of Chalgian & Tripp Law Offices\n Bio: https://mielderlaw.com/douglas-g-chalgian/\n Topic: Annual Review\n \nAn annual tradition - Mr. Chalgian will update us on all of the important and relevant statutory changes and judicial opinions from the last year relating to probate, trust, estate planning, and elder law, with detailed analysis, discussion, and takeaways that our members and guests can use to better serve clients.\n
SUMMARY:Annual Update with Doug Chalgian - Jackson Area Estate Planning Council 
PRIORITY:3
BEGIN:VALARM
TRIGGER:PT18H
ACTION:DISPLAY
DESCRIPTION:Reminder
END:VALARM
END:VEVENT
END:VCALENDAR