BEGIN:VCALENDAR
PRODID:-//hacksw/handcal//NONSGML v1.0//EN
VERSION:2.0
METHOD:PUBLISH
BEGIN:VEVENT
DTSTART:20230712T160000Z
DTEND:20230712T173000Z
LOCATION:Steve's Ranch
UID:2298720230712T160000ZEvaluating Mental Capacity
DTSTAMP:20260421T152049Z
DESCRIPTION:\nThe speaker for our July meeting will be Elisabeth Smith, MA, LLP.  She is a Limited Licensed Psychologist from Lansing. She currently works for Hero's Journey Testing & Psychotherapy in Okemos.  She previously worked through Arbor Hills Psychological Services and is a frequent expert witness in the Jackson County Probate Court in matters regarding guardianships of developmentally disabled individuals, as well as vulnerable adults.  She will be discussing the process involved in evaluating an adult suspected of being mentally incompetent as it relates to petitioning the court for guardianship or conservatorship of the adult, which would also be helpful to our membership as it relates to competency for estate planning, banking, financial planning, potential financial exploitation, and the like.\n \n \n \nSpeaker Bio:\n \nElisabeth J. Smith graduated from the Michigan School of Professional Psychology with a Masters of Arts in Clinical Psychology. She holds a Masters Psychologist License in the state of Michigan. Elisabeth specializes in the assessment and treatment of children and adolescents with Autism Spectrum Disorder, learning disabilities, anxiety, depression, behavior and impulse management, and ADHD. She also has 10 years of experience conducting psychological and neuropsychological evaluations of individuals for guardianship, both for Developmental Disabilities and Mental Health, including neurocognitive disorders. She has testified as an expert witness in Jackson, Ingham, and Hillsdale counties. \n
SUMMARY:Evaluating Mental Capacity - Jackson Area Estate Planning Council 
PRIORITY:3
BEGIN:VALARM
TRIGGER:PT18H
ACTION:DISPLAY
DESCRIPTION:Reminder
END:VALARM
END:VEVENT
END:VCALENDAR