BEGIN:VCALENDAR
PRODID:-//hacksw/handcal//NONSGML v1.0//EN
VERSION:2.0
METHOD:PUBLISH
BEGIN:VEVENT
DTSTART:20230315T160000Z
DTEND:20230315T173000Z
LOCATION:Spring Arbor University
UID:2298520230315T160000ZA General Overview of Charitable Trusts for the Probate Practitioner
DTSTAMP:20260421T151540Z
DESCRIPTION:\nA General Overview of Charitable Trusts for the Probate Practitioner\n \n \n \nAssistant Attorney General Brien Winfield Heckman serves as the Charitable Trust Attorney for the Corporate Oversight Division of the Michigan Department of Attorney General.  Brien has extensive experience with the Nonprofit Corporations Act, the Charitable Organizations and Solicitations Act, the Dissolution of Charitable Purpose Corporations Act, the Uniform Prudent Management of Institutional Funds Act, the Charitable Trustees Powers Act, and the Estates and Protected Individuals Code. \n \nHe chairs the Michigan Nonprofit Council for Charitable Trusts (MNCCT), which is an advisory group formed by the Michigan Nonprofit Association and the Council of Michigan Foundations.  The MNCCT provides expertise and guidance to the Attorney General on issues related to charities and charitable giving.\n \n \n
SUMMARY:A General Overview of Charitable Trusts for the Probate Practitioner - Jackson Area Estate Planning Council 
PRIORITY:3
BEGIN:VALARM
TRIGGER:PT18H
ACTION:DISPLAY
DESCRIPTION:Reminder
END:VALARM
END:VEVENT
END:VCALENDAR