BEGIN:VCALENDAR
PRODID:-//hacksw/handcal//NONSGML v1.0//EN
VERSION:2.0
METHOD:PUBLISH
BEGIN:VEVENT
DTSTART:20230111T170000Z
DTEND:20230111T183000Z
LOCATION:Veritas
UID:2298420230111T170000ZCybersecurity Risks and Mitigations
DTSTAMP:20260421T152038Z
DESCRIPTION:\nTopic:  Cybersecurity Risks and Mitigations\n \nSpeaker:  Paul Kennedy (bio linked below)\n \nDescription: \n \nCybercrime is one of the fastest growing crimes in the U.S. As accessibility to technologies and methods to commit cybercrimes grows, it is critical now more than ever for organizations to stay aware of these issues and take measures to protect against cyber criminals. Join this session to learn about the latest cyber security threats and techniques and gain actionable insights on how to safeguard your organization. This session will cover a variety of topics including:\n Major cyber attacks and the cost of cyber breaches The Cybercrime Toolkit Where organizations need to focus for their security Data and perimeter management Mobile Device Management (MDM); what is it and what controls need to be in place The importance of system log and alert monitoring and much more \nPaul's contact information: \n616-222-9200 \npaul.kennedy@rehmann.com
SUMMARY:Cybersecurity Risks and Mitigations - Jackson Area Estate Planning Council 
PRIORITY:3
BEGIN:VALARM
TRIGGER:PT18H
ACTION:DISPLAY
DESCRIPTION:Reminder
END:VALARM
END:VEVENT
END:VCALENDAR