BEGIN:VCALENDAR
PRODID:-//hacksw/handcal//NONSGML v1.0//EN
VERSION:2.0
METHOD:PUBLISH
BEGIN:VEVENT
DTSTART:20221109T170000Z
DTEND:20221109T183000Z
LOCATION:Veritas
UID:2298320221109T170000ZElder Abuse Trends & How to Protect Against Them  - FBI Presentation
DTSTAMP:20260421T151853Z
DESCRIPTION:\n2022-11-09 Elder Abuse Trends and How to Protect Against Them – FBI Presenting\n \nBio:\n \nSupervisory Special Agent Patrick M Geahan is the current supervisor of the FBI office in Ann Arbor, Michigan.  During his 17 years with the agency he’s investigated white collar and cyber-based crime, and has served as a full-time instructor for cyber investigators.  SSA Geahan holds a bachelor’s degree in Computer Science from Michigan Technological University and a master’s degree in Information Security and Assurance from Carnegie Mellon University.  He is the 2019 recipient of the FBI’s Medal of Excellence and is a 2020 finalist for the President’s Cup for Cybersecurity.\n
SUMMARY:Elder Abuse Trends & How to Protect Against Them  - FBI Presentation - Jackson Area Estate Planning Council 
PRIORITY:3
BEGIN:VALARM
TRIGGER:PT18H
ACTION:DISPLAY
DESCRIPTION:Reminder
END:VALARM
END:VEVENT
END:VCALENDAR