BEGIN:VCALENDAR
PRODID:-//hacksw/handcal//NONSGML v1.0//EN
VERSION:2.0
METHOD:PUBLISH
BEGIN:VEVENT
DTSTART:20220713T160000Z
DTEND:20220713T173000Z
LOCATION:Veritas
UID:2152420220713T160000ZInvestment Risk
DTSTAMP:20260421T151243Z
DESCRIPTION:\nProgram: A panel discussion on investment risk with perspectives from a CPA, financial advisor, and another speaker TBD. \n \n\n Location: Veritas - Downtown Jackson\n \n \n
SUMMARY:Investment Risk - Jackson Area Estate Planning Council 
PRIORITY:3
BEGIN:VALARM
TRIGGER:PT18H
ACTION:DISPLAY
DESCRIPTION:Reminder
END:VALARM
END:VEVENT
END:VCALENDAR