BEGIN:VCALENDAR
PRODID:-//hacksw/handcal//NONSGML v1.0//EN
VERSION:2.0
METHOD:PUBLISH
BEGIN:VEVENT
DTSTART:20220511T160000Z
DTEND:20220511T173000Z
LOCATION:Spring Arbor University
UID:2152320220511T160000ZEffectively Guiding Clients in Philanthropy
DTSTAMP:20260421T151310Z
DESCRIPTION:\nSummary:  The presentation will share ideas, questions, language, and stories that will effectively help guide clients in distributing their wealth to family and charity.  Making money that one must distribute takes business thinking.  Giving money to family and charity takes a more philanthropic approach which is why the exercise of making giving decisions is so challenging for many people.\n \n\nSpeaker: Gregory A. Schupra will be joining us at SAU. Greg is a published author, consultant, and nationally known speaker in the areas of philanthropy, charitable giving, and donor development/relations. It is an honor to welcome Greg back to the Council and the campus of Spring Arbor University, his alma mater.\n
SUMMARY:Effectively Guiding Clients in Philanthropy - Jackson Area Estate Planning Council 
PRIORITY:3
BEGIN:VALARM
TRIGGER:PT18H
ACTION:DISPLAY
DESCRIPTION:Reminder
END:VALARM
END:VEVENT
END:VCALENDAR