BEGIN:VCALENDAR
PRODID:-//hacksw/handcal//NONSGML v1.0//EN
VERSION:2.0
METHOD:PUBLISH
BEGIN:VEVENT
DTSTART:20220309T170000Z
DTEND:20220309T183000Z
LOCATION:Veritas
UID:2152220220309T170000ZElder Financial Exploitation and Abuse
DTSTAMP:20260421T151416Z
DESCRIPTION:\nWe have secured a panel of speakers to give a presentation on elder financial exploitation and abuse.   \n  \nThe speakers will be Danna Woosley, Financial Crimes Officer/Security Officer with County National Bank in Hillsdale; Carrie Cossel, APS Supervisor for Livingston and Jackson Counties, Michigan Department of Health and Human Services; Captain Kevin Hiller from the Jackson County Sheriff's Department; and Matthew Way, Assistant Prosecuting Attorney from the Jackson County Prosecuting Attorney's Office.  Each speaker will give a brief presentation about this topic as it relates to their area of expertise and will also answer questions from the council members.
SUMMARY:Elder Financial Exploitation and Abuse - Jackson Area Estate Planning Council 
PRIORITY:3
BEGIN:VALARM
TRIGGER:PT18H
ACTION:DISPLAY
DESCRIPTION:Reminder
END:VALARM
END:VEVENT
END:VCALENDAR