BEGIN:VCALENDAR
PRODID:-//hacksw/handcal//NONSGML v1.0//EN
VERSION:2.0
METHOD:PUBLISH
BEGIN:VEVENT
DTSTART:20210910T160000Z
DTEND:20210910T173000Z
LOCATION:Country Club of Jackson
UID:2151920210910T160000ZAnnual Year-In-Review
DTSTAMP:20260421T151310Z
DESCRIPTION:\nSpeaker: Doug Chalgian of Chalgian & Tripp Law Offices\nBio: https://mielderlaw.com/douglas-g-chalgian/\nTopic: Annual Review\n\nAn annual tradition - Mr. Chalgian will update us on all of the important and relevant statutory changes and judicial opinions from the last year relating to probate, trust, estate planning, and elder law, with detailed analysis, discussion, and takeaways that our members and guests can use to better serve clients.\n\nDeadline to Reserve: Friday, September 3, 2021 at 12pm\n
SUMMARY:Annual Year-In-Review - Jackson Area Estate Planning Council 
PRIORITY:3
BEGIN:VALARM
TRIGGER:PT18H
ACTION:DISPLAY
DESCRIPTION:Reminder
END:VALARM
END:VEVENT
END:VCALENDAR