BEGIN:VCALENDAR
PRODID:-//hacksw/handcal//NONSGML v1.0//EN
VERSION:2.0
METHOD:PUBLISH
BEGIN:VEVENT
DTSTART:20210714T160000Z
DTEND:20210714T173000Z
LOCATION:Veritas
UID:2030720210714T160000ZRetirement Plan Changes
DTSTAMP:20260421T151151Z
DESCRIPTION:\nMs. Ireland will be speaking about retirement plan changes, including changes to the following: (1) RMD rules, (2) non-spouse inherited IRAs; and (3) age 72 requirements.\n \nClick the link for Mr. Ireland's biography.\n
SUMMARY:Retirement Plan Changes - Jackson Area Estate Planning Council 
PRIORITY:3
BEGIN:VALARM
TRIGGER:PT18H
ACTION:DISPLAY
DESCRIPTION:Reminder
END:VALARM
END:VEVENT
END:VCALENDAR