BEGIN:VCALENDAR
PRODID:-//hacksw/handcal//NONSGML v1.0//EN
VERSION:2.0
METHOD:PUBLISH
BEGIN:VEVENT
DTSTART:20210512T160000Z
DTEND:20210512T173000Z
LOCATION:Veritas
UID:2030620210512T160000ZConservatorships and Guardianships 101
DTSTAMP:20260421T151249Z
DESCRIPTION:\nFor our May 2021 meeting, we will have a panel of probate experts joining us to discuss conservatorships and guardianships. We often discuss wills, trusts, powers of attorney, probate avoidance, probate and trust administration, and similar topics, but there is a whole other side to the world of probate: conservatorships and guardianships. Our panel of experts will give you the view from 40,000 feet, and then discuss some of the finer details, all of which will be helpful to our members regardless of your specific profession.\n \nJoining us:\n \nJulie Kelley - Register of the Jackson County Probate Court\n \nJennifer Kelly - Attorney at Kelly, Kelly & Kelly, PLC and Guardian Ad Litem (GAL) appointed by the Probate Court\n \nMarcia Smith - Jackson County Guardian\n \n \n \n \n
SUMMARY:Conservatorships and Guardianships 101 - Jackson Area Estate Planning Council 
PRIORITY:3
BEGIN:VALARM
TRIGGER:PT18H
ACTION:DISPLAY
DESCRIPTION:Reminder
END:VALARM
END:VEVENT
END:VCALENDAR