BEGIN:VCALENDAR
PRODID:-//hacksw/handcal//NONSGML v1.0//EN
VERSION:2.0
METHOD:PUBLISH
BEGIN:VEVENT
DTSTART:20201111T170000Z
DTEND:20201111T183000Z
LOCATION:Veritas
UID:2030320201111T170000ZTax Review
DTSTAMP:20260421T151638Z
DESCRIPTION:\nDate/Time: Wednesday, November 11, 2020 at 12pm\nLocation: Veritas \nSpeaker: Steven M. Patch, CPA - Lally Group, P.C.\nTopic: Taxes \nSummary: With the election finally upon us, Steve will discuss the potential impact on estate and income taxes if there is a blue wave, or, if Republicans maintain control, he will present a "what's new and relevant" for 2020 taxes. If the election is undecided, well, Steve will educate and entertain us with all things tax. \nDeadline to Reserve: Wednesday, November 4, 2020 at 3pm   \n  \nBio: Steve joined the Lally Group in 1982 upon his graduation from Michigan State University. He became a shareholder in 1990.\n \n\n Steve’s field of practice includes business consulting and taxation services to clients in the industries of construction, manufacturing, telecommunications, cable TV, professional services, and wholesale distribution. Steve also provides business valuations, estate and gift planning, succession planning and merger and acquisition planning.\n\n Steve is a member of the American Institute of Certified Public Accountants, the Michigan Association of Certified Public Accountants.\n\n Steve is currently Treasurer of the Jackson Commercial Contractors Association (JCCA); Treasurer of the Jackson Area Estate Planning Council (JAEPC), and a member of the governor’s council of the Jackson Area Chamber of Commerce. He is past Chairman of the Greater Jackson Area Chamber of Commerce and past Board member of the Enterprise Group of Jackson. He is past President of Goodwill Industries of Central Michigan. Steve is a past Treasurer of Arbor Hills Country Club, and past President of the Civitan Club of Jackson.\n
SUMMARY:Tax Review - Jackson Area Estate Planning Council 
PRIORITY:3
BEGIN:VALARM
TRIGGER:PT18H
ACTION:DISPLAY
DESCRIPTION:Reminder
END:VALARM
END:VEVENT
END:VCALENDAR