BEGIN:VCALENDAR
PRODID:-//hacksw/handcal//NONSGML v1.0//EN
VERSION:2.0
METHOD:PUBLISH
BEGIN:VEVENT
DTSTART:20200911T160000Z
DTEND:20200911T173000Z
LOCATION:Country Club of Jackson
UID:1967020200911T160000ZAnnual Year-End Review (Postponed from May)
DTSTAMP:20260421T151059Z
DESCRIPTION:\nAn annual tradition - Mr. Chalgian will update us on all of the important and relevant statutory changes and judicial opinions from the last year relating to the broad topics of probate, trust, estate planning, and elder law, with detailed analysis, discussion and handouts that our members and guests can use to better serve clients.\n \nSpeaker Bio: \n \nhttps://mielderlaw.com/douglas-g-chalgian/\n \nPROGRAM NOTE: This event was originally scheduled for May 2019 but was cancelled due to the pandemic.\n
SUMMARY:Annual Year-End Review (Postponed from May) - Jackson Area Estate Planning Council 
PRIORITY:3
BEGIN:VALARM
TRIGGER:PT18H
ACTION:DISPLAY
DESCRIPTION:Reminder
END:VALARM
END:VEVENT
END:VCALENDAR