BEGIN:VCALENDAR
PRODID:-//hacksw/handcal//NONSGML v1.0//EN
VERSION:2.0
METHOD:PUBLISH
BEGIN:VEVENT
DTSTART:20200422T160000Z
DTEND:20200422T173000Z
LOCATION:Spring Arbor University
UID:1909420200422T160000ZCancelled - COVID
DTSTAMP:20260421T151838Z
DESCRIPTION:\nDan is Director of Tax Policy and Regulatory Affairs at the Michigan Chamber of Commerce. \n
SUMMARY:Cancelled - COVID - Jackson Area Estate Planning Council 
PRIORITY:3
BEGIN:VALARM
TRIGGER:PT18H
ACTION:DISPLAY
DESCRIPTION:Reminder
END:VALARM
END:VEVENT
END:VCALENDAR