BEGIN:VCALENDAR
PRODID:-//hacksw/handcal//NONSGML v1.0//EN
VERSION:2.0
METHOD:PUBLISH
BEGIN:VEVENT
DTSTART:20200311T160000Z
DTEND:20200311T173000Z
LOCATION:Bella Notte Ristorante
UID:1909320200311T160000ZMichigan Uniform Directed Trust Act
DTSTAMP:20260421T151725Z
DESCRIPTION:
SUMMARY:Michigan Uniform Directed Trust Act - Jackson Area Estate Planning Council 
PRIORITY:3
BEGIN:VALARM
TRIGGER:PT18H
ACTION:DISPLAY
DESCRIPTION:Reminder
END:VALARM
END:VEVENT
END:VCALENDAR