BEGIN:VCALENDAR
PRODID:-//hacksw/handcal//NONSGML v1.0//EN
VERSION:2.0
METHOD:PUBLISH
BEGIN:VEVENT
DTSTART:20200108T170000Z
DTEND:20200108T183000Z
LOCATION:Bella Notte Ristorante
UID:1909120200108T170000ZThe SECURE ACT
DTSTAMP:20260421T151941Z
DESCRIPTION:\nTopic:  The SECURE Act (signed into law 12/20/19) and other tax updates/information\nSpeaker: Steven M. Patch, CPA, CVA, Shareholder, President, Lally Group\nSpeaker Bio: Steve Patch joined the firm in 1982 upon his graduation from Michigan State University. He became a shareholder in 1990 and is the President and Chief Executive Officer. In addition to being a CPA, Mr. Patch earned his certification in Business Valuations (CVA) in 1999. Mr. Patch's field of practice includes auditing and taxation services to clients in the industries of construction, manufacturing, independent telephone companies, cable TV, professional services, and wholesale distribution. Mr. Patch also provides business valuations, estate and gift planning, succession planning and merger and acquisition planning. (bio from website)\n
SUMMARY:The SECURE ACT - Jackson Area Estate Planning Council 
PRIORITY:3
BEGIN:VALARM
TRIGGER:PT18H
ACTION:DISPLAY
DESCRIPTION:Reminder
END:VALARM
END:VEVENT
END:VCALENDAR