BEGIN:VCALENDAR
PRODID:-//hacksw/handcal//NONSGML v1.0//EN
VERSION:2.0
METHOD:PUBLISH
BEGIN:VEVENT
DTSTART:20191113T170000Z
DTEND:20191113T183000Z
LOCATION:Bella Notte Ristorante
UID:1878620191113T170000ZBusiness Valuations: The Who, What, Where, When & Why
DTSTAMP:20260421T151838Z
DESCRIPTION:\nTopic: Business Valuations: The Who, What, Where, When & Why\n \nSpeakers: Thomas B. Jurasek, CPA/ABV, CGMA\n \nKyle D. Luttig, CPA\n \nBoth of Willis & Jurasek, P.C.\n \nTom Jurasek is a Principal at Willis & Jurasek, he has also obtained his accreditation in business valuations and is a chartered global management accountant. Since beginning at W&J he has hooked up email to their phones, introduced multiple monitors, moved to the cloud, began a data visualization and analytics segment as well as retooled their payroll and business valuation departments. Tom spends the majority of his time onsite at clients doing CFO for hire services; other duties include tax preparation, financial statement preparation, business valuations and dashboarding. Outside of work, Tom enjoys traveling and mountain climbing but as his kids are getting older he is transitioning into a full-time basketball and baseball coach and Cubmaster of Pack 136 in Hanover-Horton.\n \nKyle Luttig just recently added CPA to his title. Since beginning at W&J in May of 2017, he has been part of the team’s business valuation department and tax department. Kyle has helped W&J with internal projects within the QuickBooks, technology and business valuation realms. Kyle spends most of his time at W&J preparing tax returns and projections, working on projects, diving into business valuations and bookkeeping services. In his free time, Kyle enjoys spending time outside hunting and fishing along with learning more about the Jackson area.\n
SUMMARY:Business Valuations: The Who, What, Where, When & Why - Jackson Area Estate Planning Council 
PRIORITY:3
BEGIN:VALARM
TRIGGER:PT18H
ACTION:DISPLAY
DESCRIPTION:Reminder
END:VALARM
END:VEVENT
END:VCALENDAR