BEGIN:VCALENDAR
PRODID:-//hacksw/handcal//NONSGML v1.0//EN
VERSION:2.0
METHOD:PUBLISH
BEGIN:VEVENT
DTSTART:20191016T160000Z
DTEND:20191016T173000Z
LOCATION:Bella Notte Ristorante
UID:1868020191016T160000ZPartnering to Build Community Philanthropy
DTSTAMP:20260421T151417Z
DESCRIPTION:\n \nPartnering to Build Community Philanthropy\n \nCommunity foundations are useful partners in supporting local people who care about local charitable organizations and projects.  Learn how to harness the services of your local community foundation to partner with you in helping your clients give back to the community where they and we live, work and play. \n \nSpeaker Bio:\n  \n \nMonica Marie Moser \nJackson Community Foundation \nPresident & CEO \n  \nMonica has built a responsive and growing philanthropic organization since joining the Jackson Community Foundation as President & CEO in 2011.  Her small and mighty team consistently delivers results by developing new ways to connect people who care to the causes that strengthen and build their community, For Jackson, For good, For ever.  She enjoys spending down time paddle-boarding, biking, and gardening.  She attained an MBA from Spring Arbor University in 2009 and lives in Jackson, Michigan with her husband Steven Trosin and their two Australian shepherds, Romeo and Sophie.  Together they have 5 adult children living across the world and a brand new granddaughter who is a dual citizen of the US and Thailand.  
SUMMARY:Partnering to Build Community Philanthropy - Jackson Area Estate Planning Council 
PRIORITY:3
BEGIN:VALARM
TRIGGER:PT18H
ACTION:DISPLAY
DESCRIPTION:Reminder
END:VALARM
END:VEVENT
END:VCALENDAR