BEGIN:VCALENDAR
PRODID:-//hacksw/handcal//NONSGML v1.0//EN
VERSION:2.0
METHOD:PUBLISH
BEGIN:VEVENT
DTSTART:20190508T160000Z
DTEND:20190508T173000Z
LOCATION:Bella Notte Ristorante
UID:1699020190508T160000ZAnnual Year-End Review
DTSTAMP:20260421T151556Z
DESCRIPTION:\nAn annual tradition - Mr. Chalgian will update us on all of the important and relevant statutory changes and judicial opinions from the last year relating to the broad topic of probate, trust and estate planning, with detailed analysis, discussion and handouts that our members and guests can use to better serve clients.\n \nSpeaker Bio: \n \nhttps://mielderlaw.com/douglas-g-chalgian/\n
SUMMARY:Annual Year-End Review - Jackson Area Estate Planning Council 
PRIORITY:3
BEGIN:VALARM
TRIGGER:PT18H
ACTION:DISPLAY
DESCRIPTION:Reminder
END:VALARM
END:VEVENT
END:VCALENDAR