BEGIN:VCALENDAR
PRODID:-//hacksw/handcal//NONSGML v1.0//EN
VERSION:2.0
METHOD:PUBLISH
BEGIN:VEVENT
DTSTART:20190417T160000Z
DTEND:20190417T173000Z
LOCATION:Spring Arbor University
UID:1698920190417T160000ZEconomic Update and Outlook
DTSTAMP:20260421T151540Z
DESCRIPTION:\nSpeaker Bio:\n \nhttps://www.arbor.edu/faculty/randall-j-lewis/\n
SUMMARY:Economic Update and Outlook - Jackson Area Estate Planning Council 
PRIORITY:3
BEGIN:VALARM
TRIGGER:PT18H
ACTION:DISPLAY
DESCRIPTION:Reminder
END:VALARM
END:VEVENT
END:VCALENDAR