BEGIN:VCALENDAR
PRODID:-//hacksw/handcal//NONSGML v1.0//EN
VERSION:2.0
METHOD:PUBLISH
BEGIN:VEVENT
DTSTART:20190213T170000Z
DTEND:20190213T183000Z
LOCATION:Bella Notte Ristorante
UID:1698720190213T170000ZCreative Plans for Blended Families
DTSTAMP:20260421T151915Z
DESCRIPTION:\nCreative Plans for Blended Families: Options available when encountering the different scenarios of blended families, old and young. \n \nAttorney Tara Peterson focuses her practice on the areas of Estate Planning and Elder Law, including Personal Estate Planning, Business Planning and contracts, Medicaid Planning, and Probate Estate & Trust Administration and VA planning.  She has been working on Estate Plans with clients for over 10 years now. \n \nMrs. Peterson is a member of the State Bar of Michigan; Great Lansing Estate Planning Council; Ingham County Bar Association, young lawyer section & probate section; American Bar Association and Institute for Continued Legal Education and the Christian Legal Society.\n \nMrs. Peterson serves on the  ICLE Estate Planning & Probate Advisory Board, and is currently the president of the Greater Lansing Estate Planning Council Board and has been a member on the ICLE young lawyers board. She regularly lectures on topics on Estate Planning and Elder Law throughout the area.\n \nMrs. Peterson graduated Cum Laude from Western Michigan Cooley Law School in 2008.  She earned her BA in History & Political Science from Hillsdale College in 2006.\n \nTara has received the Institute of Continuing Education(ICLE) Certificate of Completion in Estate Planning & Probate Law and Elder Law.\n \nTara J. Peterson\n Attorney at Law\n Crenshaw, Peterson & Associates\n 517-347-2100\n 2157 Commons Parkway\n Okemos, MI 48864\n http://www.crenshawpeterson.com\n
SUMMARY:Creative Plans for Blended Families - Jackson Area Estate Planning Council 
PRIORITY:3
BEGIN:VALARM
TRIGGER:PT18H
ACTION:DISPLAY
DESCRIPTION:Reminder
END:VALARM
END:VEVENT
END:VCALENDAR