BEGIN:VCALENDAR
PRODID:-//hacksw/handcal//NONSGML v1.0//EN
VERSION:2.0
METHOD:PUBLISH
BEGIN:VEVENT
DTSTART:20181212T170000Z
DTEND:20181212T183000Z
LOCATION:Bella Notte Ristorante
UID:1698520181212T170000ZTax Update
DTSTAMP:20260421T151402Z
DESCRIPTION:\nThree CPAs will be our panel of speakers regarding the 2017 tax reform. More information to come.\n
SUMMARY:Tax Update - Jackson Area Estate Planning Council 
PRIORITY:3
BEGIN:VALARM
TRIGGER:PT18H
ACTION:DISPLAY
DESCRIPTION:Reminder
END:VALARM
END:VEVENT
END:VCALENDAR