BEGIN:VCALENDAR
PRODID:-//hacksw/handcal//NONSGML v1.0//EN
VERSION:2.0
METHOD:PUBLISH
BEGIN:VEVENT
DTSTART:20181010T160000Z
DTEND:20181010T173000Z
LOCATION:Bella Notte Ristorante - Jackson, MI
UID:1698320181010T160000ZTrust-Owned Life Insurance and Risk Mitigation
DTSTAMP:20260421T151853Z
DESCRIPTION:\nJeffery R. Levine, LIC of Lifetime Financial Growth of Michigan, LLC will join the Council on October 10 to discuss Trust-Owned Life Insurance and Risk Mitigation.\n
SUMMARY:Trust-Owned Life Insurance and Risk Mitigation - Jackson Area Estate Planning Council 
PRIORITY:3
BEGIN:VALARM
TRIGGER:PT18H
ACTION:DISPLAY
DESCRIPTION:Reminder
END:VALARM
END:VEVENT
END:VCALENDAR