BEGIN:VCALENDAR
PRODID:-//hacksw/handcal//NONSGML v1.0//EN
VERSION:2.0
METHOD:PUBLISH
BEGIN:VEVENT
DTSTART:20180509T160000Z
DTEND:20180509T173000Z
LOCATION:Bella Notte Restaurant, Jackson, Michigan
UID:1520120180509T160000ZAnnual Year In Review
DTSTAMP:20260421T151224Z
DESCRIPTION:\nAnnual tradition - Mr. Chalgian (and Judge Harter, schedule permitting) will update us on all of the important and relevant statutory changes and legal opinions from the last year related to the broad topic of estate planning, with detailed analysis, discussion and handouts that our members and guests can use to better serve clients.\n
SUMMARY:Annual Year In Review - Jackson Area Estate Planning Council 
PRIORITY:3
BEGIN:VALARM
TRIGGER:PT18H
ACTION:DISPLAY
DESCRIPTION:Reminder
END:VALARM
END:VEVENT
END:VCALENDAR