BEGIN:VCALENDAR
PRODID:-//hacksw/handcal//NONSGML v1.0//EN
VERSION:2.0
METHOD:PUBLISH
BEGIN:VEVENT
DTSTART:20171011T160000Z
DTEND:20171011T173000Z
LOCATION:Bella Notte Restaurant, Jackson, Michigan
UID:1519420171011T160000ZRetirement Asset Planning - Tried/True/Weird/Wild
DTSTAMP:20260421T151730Z
DESCRIPTION:
SUMMARY:Retirement Asset Planning - Tried/True/Weird/Wild - Jackson Area Estate Planning Council 
PRIORITY:3
BEGIN:VALARM
TRIGGER:PT18H
ACTION:DISPLAY
DESCRIPTION:Reminder
END:VALARM
END:VEVENT
END:VCALENDAR