BEGIN:VCALENDAR
PRODID:-//hacksw/handcal//NONSGML v1.0//EN
VERSION:2.0
METHOD:PUBLISH
BEGIN:VEVENT
DTSTART:20170908T160000Z
DTEND:20170908T173000Z
LOCATION:Country Club of Jackson
UID:1519320170908T160000ZWeird and Wild Estate Administration
DTSTAMP:20260421T151115Z
DESCRIPTION:\nRick will talk about some quirky issues that have come up in his estate administration practice, including the increase incidence of Ladybird challenges, burial rights disputes, omitted children, simultaneous deaths, and people who do not die in the right order. \n
SUMMARY:Weird and Wild Estate Administration - Jackson Area Estate Planning Council 
PRIORITY:3
BEGIN:VALARM
TRIGGER:PT18H
ACTION:DISPLAY
DESCRIPTION:Reminder
END:VALARM
END:VEVENT
END:VCALENDAR